BEGIN:VCALENDAR
VERSION:2.0
PRODID:-//Action pact - ECPv6.15.20//NONSGML v1.0//EN
CALSCALE:GREGORIAN
METHOD:PUBLISH
X-WR-CALNAME:Action pact
X-ORIGINAL-URL:https://myactionpact.org
X-WR-CALDESC:Events for Action pact
REFRESH-INTERVAL;VALUE=DURATION:PT1H
X-Robots-Tag:noindex
X-PUBLISHED-TTL:PT1H
BEGIN:VTIMEZONE
TZID:UTC
BEGIN:STANDARD
TZOFFSETFROM:+0000
TZOFFSETTO:+0000
TZNAME:UTC
DTSTART:20240101T000000
END:STANDARD
END:VTIMEZONE
BEGIN:VEVENT
DTSTART;TZID=UTC:20250827T103000
DTEND;TZID=UTC:20250827T120000
DTSTAMP:20260420T164800
CREATED:20250721T130116Z
LAST-MODIFIED:20250721T130116Z
UID:2001-1756290600-1756296000@myactionpact.org
SUMMARY:Georgia Ship OutReach
DESCRIPTION:
URL:https://myactionpact.org/event/georgia-ship-outreach-22/
LOCATION:Toombs County Senior Center\, 107 Old Airport Rd\, Vidalia\, GA\, 30453\, United States
END:VEVENT
BEGIN:VEVENT
DTSTART;TZID=UTC:20250826T103000
DTEND;TZID=UTC:20250826T123000
DTSTAMP:20260420T164800
CREATED:20250721T130041Z
LAST-MODIFIED:20250721T130041Z
UID:2000-1756204200-1756211400@myactionpact.org
SUMMARY:Georgia Ship OutReach
DESCRIPTION:
URL:https://myactionpact.org/event/georgia-ship-outreach-21/
LOCATION:Telfair County Senior Center\, 605 Daughtry Ave.\, Mcrae\, GA\, 31055\, United States
END:VEVENT
BEGIN:VEVENT
DTSTART;TZID=UTC:20250821T103000
DTEND;TZID=UTC:20250821T123000
DTSTAMP:20260420T164800
CREATED:20250721T125957Z
LAST-MODIFIED:20250721T125957Z
UID:1999-1755772200-1755779400@myactionpact.org
SUMMARY:Georgia Ship OutReach
DESCRIPTION:
URL:https://myactionpact.org/event/georgia-ship-outreach-20/
LOCATION:Treutlen County Senior Center\, 4931 BW Louisiana Ave\, Soperton\, GA\, 30457\, United States
END:VEVENT
BEGIN:VEVENT
DTSTART;TZID=UTC:20250820T103000
DTEND;TZID=UTC:20250820T120000
DTSTAMP:20260420T164800
CREATED:20250721T125919Z
LAST-MODIFIED:20250721T125919Z
UID:1998-1755685800-1755691200@myactionpact.org
SUMMARY:Georgia Ship OutReach
DESCRIPTION:
URL:https://myactionpact.org/event/georgia-ship-outreach-19/
LOCATION:Appling County Senior Center\, 22 Jr. High Drive\, Baxley\, GA\, 31513\, United States
END:VEVENT
BEGIN:VEVENT
DTSTART;TZID=UTC:20250814T103000
DTEND;TZID=UTC:20250814T133000
DTSTAMP:20260420T164800
CREATED:20250721T125839Z
LAST-MODIFIED:20250721T125839Z
UID:1997-1755167400-1755178200@myactionpact.org
SUMMARY:Georgia Ship OutReach
DESCRIPTION:
URL:https://myactionpact.org/event/georgia-ship-outreach-18/
LOCATION:Dodge County Senior Center\, 824 Griffin Ave\, Eastman\, GA\, 31023\, United States
END:VEVENT
BEGIN:VEVENT
DTSTART;TZID=UTC:20250813T103000
DTEND;TZID=UTC:20250813T123000
DTSTAMP:20260420T164800
CREATED:20250721T125805Z
LAST-MODIFIED:20250721T125805Z
UID:1996-1755081000-1755088200@myactionpact.org
SUMMARY:Georgia Ship OutReach
DESCRIPTION:
URL:https://myactionpact.org/event/georgia-ship-outreach-17/
LOCATION:Wayne County Senior Center\, 660 North 4th Street\, Jesup\, GA\, 31545\, United States
END:VEVENT
BEGIN:VEVENT
DTSTART;TZID=UTC:20250812T103000
DTEND;TZID=UTC:20250812T123000
DTSTAMP:20260420T164800
CREATED:20250721T125627Z
LAST-MODIFIED:20250721T125627Z
UID:1994-1754994600-1755001800@myactionpact.org
SUMMARY:Georgia Ship OutReach
DESCRIPTION:
URL:https://myactionpact.org/event/georgia-ship-outreach-16/
LOCATION:Jeff Davis Senior Center\, 42 Jeff Davis Street\, Hazlehurst\, GA\, 31539\, United States
END:VEVENT
BEGIN:VEVENT
DTSTART;TZID=UTC:20250807T100000
DTEND;TZID=UTC:20250807T130000
DTSTAMP:20260420T164800
CREATED:20250721T125459Z
LAST-MODIFIED:20250721T125459Z
UID:1992-1754560800-1754571600@myactionpact.org
SUMMARY:Georgia Ship OutReach
DESCRIPTION:
URL:https://myactionpact.org/event/georgia-ship-outreach-15/
LOCATION:Evans County Senior center\, 702 Church Street\, Claxton\, GA\, 30417\, United States
END:VEVENT
BEGIN:VEVENT
DTSTART;TZID=UTC:20250429T103000
DTEND;TZID=UTC:20250429T123000
DTSTAMP:20260420T164800
CREATED:20250320T115955Z
LAST-MODIFIED:20250320T125222Z
UID:1950-1745922600-1745929800@myactionpact.org
SUMMARY:Georgia SHIP Medicare Presentation
DESCRIPTION:Join us for an informative and empowering Medicare presentation hosted by Georgia SHIP (State Health Insurance Assistance Program). Whether you’re new to Medicare\, nearing eligibility\, or simply seeking to understand your options better\, this presentation will provide clear\, expert guidance on how to navigate the complexities of Medicare. Our knowledgeable team will walk you through key topics such as enrollment\, coverage choices\, and tips for maximizing your benefits. Don’t miss this opportunity to get the answers you need.
URL:https://myactionpact.org/event/georgia-ship-outreach-14/
LOCATION:Telfair County Senior Center\, 605 Daughtry Ave.\, Mcrae\, GA\, 31055\, United States
END:VEVENT
BEGIN:VEVENT
DTSTART;TZID=UTC:20250423T103000
DTEND;TZID=UTC:20250423T123000
DTSTAMP:20260420T164800
CREATED:20250320T115842Z
LAST-MODIFIED:20250320T125156Z
UID:1948-1745404200-1745411400@myactionpact.org
SUMMARY:Georgia SHIP Medicare Presentation
DESCRIPTION:Join us for an informative and empowering Medicare presentation hosted by Georgia SHIP (State Health Insurance Assistance Program). Whether you’re new to Medicare\, nearing eligibility\, or simply seeking to understand your options better\, this presentation will provide clear\, expert guidance on how to navigate the complexities of Medicare. Our knowledgeable team will walk you through key topics such as enrollment\, coverage choices\, and tips for maximizing your benefits. Don’t miss this opportunity to get the answers you need.
URL:https://myactionpact.org/event/georgia-ship-outreach-13/
LOCATION:Appling County Senior Center\, 22 Jr. High Drive\, Baxley\, GA\, 31513\, United States
END:VEVENT
BEGIN:VEVENT
DTSTART;TZID=UTC:20250422T103000
DTEND;TZID=UTC:20250422T123000
DTSTAMP:20260420T164800
CREATED:20250320T115714Z
LAST-MODIFIED:20250320T125046Z
UID:1946-1745317800-1745325000@myactionpact.org
SUMMARY:Georgia SHIP Medicare Presentation
DESCRIPTION:Join us for an informative and empowering Medicare presentation hosted by Georgia SHIP (State Health Insurance Assistance Program). Whether you’re new to Medicare\, nearing eligibility\, or simply seeking to understand your options better\, this presentation will provide clear\, expert guidance on how to navigate the complexities of Medicare. Our knowledgeable team will walk you through key topics such as enrollment\, coverage choices\, and tips for maximizing your benefits. Don’t miss this opportunity to get the answers you need.
URL:https://myactionpact.org/event/georgia-ship-outreach-12/
LOCATION:Johnson County Senior Center\, 108 Hilton Holton St\, Wrightsville\, GA\, 31096\, United States
END:VEVENT
BEGIN:VEVENT
DTSTART;TZID=UTC:20250417T103000
DTEND;TZID=UTC:20250417T113000
DTSTAMP:20260420T164800
CREATED:20250320T114521Z
LAST-MODIFIED:20250320T125127Z
UID:1944-1744885800-1744889400@myactionpact.org
SUMMARY:Georgia SHIP Medicare Presentation
DESCRIPTION:Join us for an informative and empowering Medicare presentation hosted by Georgia SHIP (State Health Insurance Assistance Program). Whether you’re new to Medicare\, nearing eligibility\, or simply seeking to understand your options better\, this presentation will provide clear\, expert guidance on how to navigate the complexities of Medicare. Our knowledgeable team will walk you through key topics such as enrollment\, coverage choices\, and tips for maximizing your benefits. Don’t miss this opportunity to get the answers you need.
URL:https://myactionpact.org/event/georgia-ship-outreach-11/
LOCATION:Candler County Senior Center\, 151 S. Register St.\, Metter\, GA\, 30439\, United States
END:VEVENT
BEGIN:VEVENT
DTSTART;TZID=UTC:20250416T110000
DTEND;TZID=UTC:20250416T133000
DTSTAMP:20260420T164800
CREATED:20250320T114306Z
LAST-MODIFIED:20250320T124954Z
UID:1942-1744801200-1744810200@myactionpact.org
SUMMARY:Georgia SHIP Medicare Presentation
DESCRIPTION:Join us for an informative and empowering Medicare presentation hosted by Georgia SHIP (State Health Insurance Assistance Program). Whether you’re new to Medicare\, nearing eligibility\, or simply seeking to understand your options better\, this presentation will provide clear\, expert guidance on how to navigate the complexities of Medicare. Our knowledgeable team will walk you through key topics such as enrollment\, coverage choices\, and tips for maximizing your benefits. Don’t miss this opportunity to get the answers you need.
URL:https://myactionpact.org/event/georgia-ship-outreach-10/
LOCATION:Bleckley County Senior Center\, 165 Peacock St\, Cochran\, GA\, 31014\, United States
END:VEVENT
BEGIN:VEVENT
DTSTART;TZID=UTC:20250414T110000
DTEND;TZID=UTC:20250414T140000
DTSTAMP:20260420T164800
CREATED:20250320T114145Z
LAST-MODIFIED:20250320T124925Z
UID:1940-1744628400-1744639200@myactionpact.org
SUMMARY:Georgia SHIP Medicare Presentation
DESCRIPTION:Join us for an informative and empowering Medicare presentation hosted by Georgia SHIP (State Health Insurance Assistance Program). Whether you’re new to Medicare\, nearing eligibility\, or simply seeking to understand your options better\, this presentation will provide clear\, expert guidance on how to navigate the complexities of Medicare. Our knowledgeable team will walk you through key topics such as enrollment\, coverage choices\, and tips for maximizing your benefits. Don’t miss this opportunity to get the answers you need.
URL:https://myactionpact.org/event/georgia-ship-outreach-9/
LOCATION:Laurens County Senior Center\, 112 Nathanel Drive\, East Dublin Ga.\, GA\, 31027\, United States
END:VEVENT
BEGIN:VEVENT
DTSTART;TZID=UTC:20250409T103000
DTEND;TZID=UTC:20250409T123000
DTSTAMP:20260420T164800
CREATED:20250320T114013Z
LAST-MODIFIED:20250320T124848Z
UID:1939-1744194600-1744201800@myactionpact.org
SUMMARY:Georgia SHIP Medicare Presentation
DESCRIPTION:Join us for an informative and empowering Medicare presentation hosted by Georgia SHIP (State Health Insurance Assistance Program). Whether you’re new to Medicare\, nearing eligibility\, or simply seeking to understand your options better\, this presentation will provide clear\, expert guidance on how to navigate the complexities of Medicare. Our knowledgeable team will walk you through key topics such as enrollment\, coverage choices\, and tips for maximizing your benefits. Don’t miss this opportunity to get the answers you need.
URL:https://myactionpact.org/event/georgia-ship-outreach-8/
LOCATION:Jeff Davis Senior Center\, 42 Jeff Davis Street\, Hazlehurst\, GA\, 31539\, United States
END:VEVENT
BEGIN:VEVENT
DTSTART;TZID=UTC:20250408T103000
DTEND;TZID=UTC:20250408T130000
DTSTAMP:20260420T164800
CREATED:20250320T113915Z
LAST-MODIFIED:20250320T124745Z
UID:1938-1744108200-1744117200@myactionpact.org
SUMMARY:Georgia SHIP Medicare Presentation
DESCRIPTION:Join us for an informative and empowering Medicare presentation hosted by Georgia SHIP (State Health Insurance Assistance Program). Whether you’re new to Medicare\, nearing eligibility\, or simply seeking to understand your options better\, this presentation will provide clear\, expert guidance on how to navigate the complexities of Medicare. Our knowledgeable team will walk you through key topics such as enrollment\, coverage choices\, and tips for maximizing your benefits. Don’t miss this opportunity to get the answers you need.
URL:https://myactionpact.org/event/georgia-ship-outreach-7/
LOCATION:Dodge County Senior Center\, 824 Griffin Ave\, Eastman\, GA\, 31023\, United States
END:VEVENT
BEGIN:VEVENT
DTSTART;TZID=UTC:20250327T103000
DTEND;TZID=UTC:20250327T123000
DTSTAMP:20260420T164800
CREATED:20250305T203914Z
LAST-MODIFIED:20250305T203914Z
UID:1933-1743071400-1743078600@myactionpact.org
SUMMARY:Georgia SHIP Outreach and Planning
DESCRIPTION:
URL:https://myactionpact.org/event/georgia-ship-outreach-and-planning-6-2-2-2-3-5/
LOCATION:Toombs County Senior Center\, 107 Old Airport Rd\, Vidalia\, GA\, 30453\, United States
END:VEVENT
BEGIN:VEVENT
DTSTART;TZID=UTC:20250327T080000
DTEND;TZID=UTC:20250327T120000
DTSTAMP:20260420T164800
CREATED:20250305T194806Z
LAST-MODIFIED:20250305T194806Z
UID:1917-1743062400-1743076800@myactionpact.org
SUMMARY:Georgia SHIP Outreach and Planning
DESCRIPTION:
URL:https://myactionpact.org/event/georgia-ship-outreach-and-planning-6-2/
LOCATION:Berrien Co.\, 204 Hazel Ave.\, Nashville\, GA\, 31639\, United States
END:VEVENT
BEGIN:VEVENT
DTSTART;TZID=UTC:20250326T103000
DTEND;TZID=UTC:20250326T133000
DTSTAMP:20260420T164800
CREATED:20250305T203753Z
LAST-MODIFIED:20250305T203753Z
UID:1931-1742985000-1742995800@myactionpact.org
SUMMARY:Georgia SHIP Outreach and Planning
DESCRIPTION:
URL:https://myactionpact.org/event/georgia-ship-outreach-and-planning-6-2-2-2-3-4/
LOCATION:Dodge County Senior Center\, 824 Griffin Ave\, Eastman\, GA\, 31023\, United States
END:VEVENT
BEGIN:VEVENT
DTSTART;TZID=UTC:20250325T110000
DTEND;TZID=UTC:20250325T133000
DTSTAMP:20260420T164800
CREATED:20250305T203626Z
LAST-MODIFIED:20250305T203626Z
UID:1929-1742900400-1742909400@myactionpact.org
SUMMARY:Georgia SHIP Outreach and Planning
DESCRIPTION:
URL:https://myactionpact.org/event/georgia-ship-outreach-and-planning-6-2-2-2-3-3/
LOCATION:Montgomery County Senior Centger\, 391 Morrison St.\, Mt.Vernon\, GA\, 30445\, United States
END:VEVENT
BEGIN:VEVENT
DTSTART;TZID=UTC:20250325T080000
DTEND;TZID=UTC:20250325T120000
DTSTAMP:20260420T164800
CREATED:20250305T194644Z
LAST-MODIFIED:20250305T194644Z
UID:1915-1742889600-1742904000@myactionpact.org
SUMMARY:Georgia SHIP Outreach and Planning
DESCRIPTION:
URL:https://myactionpact.org/event/georgia-ship-outreach-and-planning-6/
LOCATION:Brantley Co.\, 789 Burton St.\, Nahunta\, GA\, 31553\, United States
END:VEVENT
BEGIN:VEVENT
DTSTART;TZID=UTC:20250324T080000
DTEND;TZID=UTC:20250324T120000
DTSTAMP:20260420T164800
CREATED:20250305T193811Z
LAST-MODIFIED:20250305T193811Z
UID:1903-1742803200-1742817600@myactionpact.org
SUMMARY:2025 Georgia SHIP Outreach
DESCRIPTION:
URL:https://myactionpact.org/event/2025-georgia-ship-outreach/
LOCATION:Irwin Co. Senior Center\, 415 W. 4th St.\, Ocilla\, GA\, 31774\, United States
END:VEVENT
BEGIN:VEVENT
DTSTART;TZID=UTC:20250320T103000
DTEND;TZID=UTC:20250320T130000
DTSTAMP:20260420T164800
CREATED:20250305T203212Z
LAST-MODIFIED:20250305T203212Z
UID:1927-1742466600-1742475600@myactionpact.org
SUMMARY:Georgia SHIP Outreach and Planning
DESCRIPTION:
URL:https://myactionpact.org/event/georgia-ship-outreach-and-planning-6-2-2-2-3-2/
LOCATION:Wheeler County Senior Center\, 5 West Stubbs St.\, Alamo\, GA\, 30411\, United States
END:VEVENT
BEGIN:VEVENT
DTSTART;TZID=UTC:20250320T080000
DTEND;TZID=UTC:20250320T120000
DTSTAMP:20260420T164800
CREATED:20250305T194532Z
LAST-MODIFIED:20250305T194532Z
UID:1913-1742457600-1742472000@myactionpact.org
SUMMARY:Georgia SHIP Outreach and Planning
DESCRIPTION:
URL:https://myactionpact.org/event/georgia-ship-outreach-and-planning-5/
LOCATION:Bacon Co.\, 108 E. 5th St.\, Alma\, GA\, 31510\, United States
END:VEVENT
BEGIN:VEVENT
DTSTART;TZID=UTC:20250319T103000
DTEND;TZID=UTC:20250319T123000
DTSTAMP:20260420T164800
CREATED:20250305T203001Z
LAST-MODIFIED:20250305T203001Z
UID:1925-1742380200-1742387400@myactionpact.org
SUMMARY:Georgia SHIP Outreach and Planning
DESCRIPTION:
URL:https://myactionpact.org/event/georgia-ship-outreach-and-planning-6-2-2-2-3/
LOCATION:Wayne County Senior Center\, 660 North 4th Street\, Jesup\, GA\, 31545\, United States
END:VEVENT
BEGIN:VEVENT
DTSTART;TZID=UTC:20250318T103000
DTEND;TZID=UTC:20250318T123000
DTSTAMP:20260420T164800
CREATED:20250305T195730Z
LAST-MODIFIED:20250305T195730Z
UID:1923-1742293800-1742301000@myactionpact.org
SUMMARY:Georgia SHIP Outreach and Planning
DESCRIPTION:
URL:https://myactionpact.org/event/georgia-ship-outreach-and-planning-6-2-2-2-2/
LOCATION:Treutlen County Senior Center\, 4931 BW Louisiana Ave\, Soperton\, GA\, 30457\, United States
END:VEVENT
BEGIN:VEVENT
DTSTART;TZID=UTC:20250318T080000
DTEND;TZID=UTC:20250318T120000
DTSTAMP:20260420T164800
CREATED:20250305T194423Z
LAST-MODIFIED:20250305T194423Z
UID:1911-1742284800-1742299200@myactionpact.org
SUMMARY:Georgia SHIP Outreach and Planning
DESCRIPTION:
URL:https://myactionpact.org/event/georgia-ship-outreach-and-planning-4/
LOCATION:Pierce Co.\, 711 Henry St.\, Blackshear\, GA\, 31516\, United States
END:VEVENT
BEGIN:VEVENT
DTSTART;TZID=UTC:20250313T103000
DTEND;TZID=UTC:20250313T114500
DTSTAMP:20260420T164800
CREATED:20250305T195523Z
LAST-MODIFIED:20250305T195523Z
UID:1921-1741861800-1741866300@myactionpact.org
SUMMARY:Georgia SHIP Outreach and Planning
DESCRIPTION:
URL:https://myactionpact.org/event/georgia-ship-outreach-and-planning-6-2-2-2/
LOCATION:Tattnall Caounty Senior Center\, 144 W. Brazell St.\, Reidsville\, GA\, 30453\, United States
END:VEVENT
BEGIN:VEVENT
DTSTART;TZID=UTC:20250313T080000
DTEND;TZID=UTC:20250313T120000
DTSTAMP:20260420T164800
CREATED:20250305T194250Z
LAST-MODIFIED:20250305T194250Z
UID:1909-1741852800-1741867200@myactionpact.org
SUMMARY:Georgia SHIP Outreach and Planning
DESCRIPTION:
URL:https://myactionpact.org/event/georgia-ship-outreach-and-planning-3/
LOCATION:Tift Co. Senior Center\, 315 2nd St. W.\, Tifton\, GA\, 31794\, United States
END:VEVENT
BEGIN:VEVENT
DTSTART;TZID=UTC:20250312T103000
DTEND;TZID=UTC:20250312T123000
DTSTAMP:20260420T164800
CREATED:20250305T195327Z
LAST-MODIFIED:20250305T195327Z
UID:1919-1741775400-1741782600@myactionpact.org
SUMMARY:Georgia SHIP Outreach and Planning
DESCRIPTION:
URL:https://myactionpact.org/event/georgia-ship-outreach-and-planning-6-2-2/
LOCATION:Emanuel County Senior Center\, 42 GA-56N\, Swainsboro\, GA\, 30401\, United States
END:VEVENT
END:VCALENDAR